BEGIN:VCALENDAR
VERSION:2.0
PRODID:-//Northwest Quantum - ECPv6.15.17.1//NONSGML v1.0//EN
CALSCALE:GREGORIAN
METHOD:PUBLISH
X-ORIGINAL-URL:https://nwquantum.uw.edu
X-WR-CALDESC:Events for Northwest Quantum
REFRESH-INTERVAL;VALUE=DURATION:PT1H
X-Robots-Tag:noindex
X-PUBLISHED-TTL:PT1H
BEGIN:VTIMEZONE
TZID:UTC
BEGIN:STANDARD
TZOFFSETFROM:+0000
TZOFFSETTO:+0000
TZNAME:UTC
DTSTART:20240101T000000
END:STANDARD
END:VTIMEZONE
BEGIN:VEVENT
DTSTART;VALUE=DATE:20260319
DTEND;VALUE=DATE:20260323
DTSTAMP:20260420T200057
CREATED:20251223T053018Z
LAST-MODIFIED:20251223T053024Z
UID:1598-1773878400-1774223999@nwquantum.uw.edu
SUMMARY:KIMES Medical Exhibition
DESCRIPTION:Visit the official trade show page \nThe largest business network for medical experts in Korea. \nFor more information\, contact\nKarl Dahlgren
URL:https://nwquantum.uw.edu/event/kimes-medical-exhibition/
LOCATION:Seoul\, Seoul\, Korea\, Republic of
CATEGORIES:Partner Events
ATTACH;FMTTYPE=image/jpeg:https://nwquantum.uw.edu/wp-content/uploads/2025/12/KIMES-Blurb-Art.jpg
END:VEVENT
BEGIN:VEVENT
DTSTART;VALUE=DATE:20260209
DTEND;VALUE=DATE:20260212
DTSTAMP:20260420T200057
CREATED:20251223T052717Z
LAST-MODIFIED:20251223T052717Z
UID:1591-1770595200-1770854399@nwquantum.uw.edu
SUMMARY:PNAA Advance 2026
DESCRIPTION:Visit the official 2025 show wrap-up page \nPacific Northwest Aerospace Alliance (PNAA) is a coalition of aerospace companies serving North America’s largest commercial aerospace manufacturing cluster which centers round growing segments in the Pacific Northwest. \nFor more information\, contact\nShannon McCarty
URL:https://nwquantum.uw.edu/event/pnaa-advance-2026/
LOCATION:Lynnwood\, Lynnwod\, WA\, United States
CATEGORIES:Partner Events
ATTACH;FMTTYPE=image/jpeg:https://nwquantum.uw.edu/wp-content/uploads/2025/12/PNAA-Advance-2026-blurb-art.jpg
END:VEVENT
BEGIN:VEVENT
DTSTART;VALUE=DATE:20260128
DTEND;VALUE=DATE:20260129
DTSTAMP:20260420T200057
CREATED:20251223T045526Z
LAST-MODIFIED:20251223T045526Z
UID:1569-1769558400-1769644799@nwquantum.uw.edu
SUMMARY:Think Gov
DESCRIPTION:ThinkGov 2026 is the premier event for forward-thinking Federal IT decision-makers ready to maximize the ROI of AI and Quantum to drive meaningful\, measurable results in their agencies. You can find the IBM Quantum team in the Champions Club Exhibits and Activations room. Featured speakers include Joe Broz\, JR Rao\, Ray Harishankar\, and Travis Scholten.
URL:https://nwquantum.uw.edu/event/think-gov/
LOCATION:Washington\, Washington\, DC\, United States
CATEGORIES:Partner Events
ATTACH;FMTTYPE=image/webp:https://nwquantum.uw.edu/wp-content/uploads/2025/12/industry-event-01.webp
END:VEVENT
BEGIN:VEVENT
DTSTART;VALUE=DATE:20260126
DTEND;VALUE=DATE:20260130
DTSTAMP:20260420T200057
CREATED:20251223T045210Z
LAST-MODIFIED:20251223T045210Z
UID:1564-1769385600-1769731199@nwquantum.uw.edu
SUMMARY:SCA/HPCAsia 2026
DESCRIPTION:Join us in Osaka as two leading conferences unite to create a premier forum for HPC collaboration. Under the theme “Everything with HPC – AI\, Cloud\, QC and the Future Society\,” the event brings together experts in AI\, cloud\, quantum computing\, and supercomputing to shape the future of computing. Visit IBM at Booth F11\, where we will showcase a model of IBM Quantum System Two\, and IBM experts will be on hand to discuss the latest advances in quantum computing and hybrid quantum-classical workflows. On Thursday\, January 29\, from 9:45–10:30 AM\, Jay Gambetta\, IBM Director of Research\, will deliver a keynote titled Beyond Quantum Advantage: The Future of Computing. In addition\, IBM will host its 1st Annual Asia-Pacific Workshop on Large-Scale Quantum Computing on January 29\, from 13:30–17:00. IBM will also participate in several tutorials and technical sessions—be sure to watch for these in the full conference program.
URL:https://nwquantum.uw.edu/event/sca-hpcasia-2026/
LOCATION:Osaka\, Japan
CATEGORIES:Partner Events
ATTACH;FMTTYPE=image/webp:https://nwquantum.uw.edu/wp-content/uploads/2025/12/industry-event-01.webp
END:VEVENT
BEGIN:VEVENT
DTSTART;VALUE=DATE:20260126
DTEND;VALUE=DATE:20260127
DTSTAMP:20260420T200057
CREATED:20251223T045041Z
LAST-MODIFIED:20251223T045041Z
UID:1561-1769385600-1769471999@nwquantum.uw.edu
SUMMARY:Qiskit Community Call
DESCRIPTION:Working on a GitHub issue or PR for one of the Qiskit repositories? This community call is a space to connect directly with Qiskit maintainers to get unstuck\, ask technical questions\, share feedback\, or learn more about the reasoning behind recent project directions. You’re also welcome to just pass by to say hi 👋. There’s no need to stay for the full session; feel free to step in and out at any point during the hour. Join us to discuss your contributions\, explore ideas\, and help shape the future of Qiskit together.
URL:https://nwquantum.uw.edu/event/qiskit-community-call-2/
LOCATION:Discord
CATEGORIES:Partner Events
ATTACH;FMTTYPE=image/webp:https://nwquantum.uw.edu/wp-content/uploads/2025/12/community-meetup-1.webp
END:VEVENT
BEGIN:VEVENT
DTSTART;VALUE=DATE:20260124
DTEND;VALUE=DATE:20260131
DTSTAMP:20260420T200057
CREATED:20251223T044642Z
LAST-MODIFIED:20251223T044800Z
UID:1556-1769212800-1769817599@nwquantum.uw.edu
SUMMARY:QIP
DESCRIPTION:
URL:https://nwquantum.uw.edu/event/qip/
LOCATION:Riga
CATEGORIES:Partner Events
ATTACH;FMTTYPE=image/webp:https://nwquantum.uw.edu/wp-content/uploads/2025/12/industry-event-03.webp
END:VEVENT
BEGIN:VEVENT
DTSTART;VALUE=DATE:20260112
DTEND;VALUE=DATE:20260113
DTSTAMP:20260420T200057
CREATED:20251223T044325Z
LAST-MODIFIED:20251223T044325Z
UID:1552-1768176000-1768262399@nwquantum.uw.edu
SUMMARY:Qiskit Community Call
DESCRIPTION:Working on a GitHub issue or PR for one of the Qiskit repositories? This community call is a space to connect directly with Qiskit maintainers to get unstuck\, ask technical questions\, share feedback\, or learn more about the reasoning behind recent project directions. You’re also welcome to just pass by to say hi 👋. There’s no need to stay for the full session; feel free to step in and out at any point during the hour. Join us to discuss your contributions\, explore ideas\, and help shape the future of Qiskit together.
URL:https://nwquantum.uw.edu/event/qiskit-community-call/
LOCATION:Discord
CATEGORIES:Partner Events
ATTACH;FMTTYPE=image/webp:https://nwquantum.uw.edu/wp-content/uploads/2025/12/community-meetup.webp
END:VEVENT
BEGIN:VEVENT
DTSTART;VALUE=DATE:20260101
DTEND;VALUE=DATE:20260102
DTSTAMP:20260420T200057
CREATED:20251223T052550Z
LAST-MODIFIED:20251223T052550Z
UID:1588-1767225600-1767311999@nwquantum.uw.edu
SUMMARY:Japan Washington Innovators AI Meetup
DESCRIPTION:Dates TBD\nSeattle \nWashington State ICT Startups are able to meet with major Japanese multinational companies that are interested in acquiring innovative technologies. \nFor more information\, contact\nJulie Monahan
URL:https://nwquantum.uw.edu/event/japan-washington-innovators-ai-meetup/
CATEGORIES:Partner Events
ATTACH;FMTTYPE=image/png:https://nwquantum.uw.edu/wp-content/uploads/2025/12/Japan-Seattle-AI-Meetup-blurb-art.png
END:VEVENT
BEGIN:VEVENT
DTSTART;TZID=UTC:20251231T210000
DTEND;TZID=UTC:20260101T010000
DTSTAMP:20260420T200057
CREATED:20251223T051448Z
LAST-MODIFIED:20251223T051644Z
UID:1580-1767214800-1767229200@nwquantum.uw.edu
SUMMARY:new year's eve\, thebizdev.club™ style
DESCRIPTION:​spend new year’s eve with thebizdev.club™\n​ring in the new year in style!\n​this’ll be Seattle’s premier nye party\, no doubt \n\n\n​fun \n\n\n​food \n\n\n​drinks \n\n\n​bizdev \n\n\n​yappin’ \n\n\n​games \n\n\n​??? \n\n\n​check back often here for updates to the event as they materialize
URL:https://nwquantum.uw.edu/event/new-years-eve-thebizdev-club-style/
LOCATION:Seattle\, WA
CATEGORIES:Partner Events
ATTACH;FMTTYPE=image/avif:https://nwquantum.uw.edu/wp-content/uploads/2025/12/ed2004bd-3c94-4b1b-88f2-59c8811f7aaa.avif
END:VEVENT
END:VCALENDAR