BEGIN:VCALENDAR
VERSION:2.0
PRODID:-//Northwest Quantum - ECPv6.15.17.1//NONSGML v1.0//EN
CALSCALE:GREGORIAN
METHOD:PUBLISH
X-WR-CALNAME:Northwest Quantum
X-ORIGINAL-URL:https://nwquantum.uw.edu
X-WR-CALDESC:Events for Northwest Quantum
REFRESH-INTERVAL;VALUE=DURATION:PT1H
X-Robots-Tag:noindex
X-PUBLISHED-TTL:PT1H
BEGIN:VTIMEZONE
TZID:UTC
BEGIN:STANDARD
TZOFFSETFROM:+0000
TZOFFSETTO:+0000
TZNAME:UTC
DTSTART:20250101T000000
END:STANDARD
END:VTIMEZONE
BEGIN:VEVENT
DTSTART;TZID=UTC:20260101T121000
DTEND;TZID=UTC:20260601T130000
DTSTAMP:20260425T150211
CREATED:20251223T050848Z
LAST-MODIFIED:20251223T050848Z
UID:1574-1767269400-1780318800@nwquantum.uw.edu
SUMMARY:Spring 2026 Colloquium Schedule
DESCRIPTION:How to join\nColloquia are held on Thursdays in Webster Physical Sciences Building room 11 on the Pullman campus from 12:10 to 1:00pm. \nColloquia are held in person. For those who cannot attend in person\, please join us on Zoom. \n\nMeeting ID: 965 8240 9398\nPasscode: physastro\n\nPast colloquia can be viewed on our library on YouTube. \nYou can support these events by giving to the Physics Excellence Fund or the S. Towne Stephenson Lectureship.
URL:https://nwquantum.uw.edu/event/spring-2026-colloquium-schedule/
LOCATION:Pullman\, Webster Physical Sciences Building room 11\, Pullman\, WA\, United States
CATEGORIES:Partner Events
ATTACH;FMTTYPE=image/svg+xml:https://nwquantum.uw.edu/wp-content/uploads/2025/09/WSU-lockup-horz-4c.svg
END:VEVENT
BEGIN:VEVENT
DTSTART;VALUE=DATE:20260112
DTEND;VALUE=DATE:20260113
DTSTAMP:20260425T150211
CREATED:20251223T044325Z
LAST-MODIFIED:20251223T044325Z
UID:1552-1768176000-1768262399@nwquantum.uw.edu
SUMMARY:Qiskit Community Call
DESCRIPTION:Working on a GitHub issue or PR for one of the Qiskit repositories? This community call is a space to connect directly with Qiskit maintainers to get unstuck\, ask technical questions\, share feedback\, or learn more about the reasoning behind recent project directions. You’re also welcome to just pass by to say hi 👋. There’s no need to stay for the full session; feel free to step in and out at any point during the hour. Join us to discuss your contributions\, explore ideas\, and help shape the future of Qiskit together.
URL:https://nwquantum.uw.edu/event/qiskit-community-call/
LOCATION:Discord
CATEGORIES:Partner Events
ATTACH;FMTTYPE=image/webp:https://nwquantum.uw.edu/wp-content/uploads/2025/12/community-meetup.webp
END:VEVENT
END:VCALENDAR